BEGIN:VCALENDAR
VERSION:2.0
PRODID:-//www.developmenthomes.org//NONSGML kigkonsult.se iCalcreator 2.30.
 10//
CALSCALE:GREGORIAN
METHOD:PUBLISH
UID:939bd056-69d2-414e-9c4e-44a589aa56ce
X-WR-CALDESC:On Tuesday\, February 14th\, \n2023 from 11am to 1pm\, we will
  be having a chili cook­\noff in the Education Center.
X-WR-RELCALID:dbf4581a152b6d7564951f99ba9b0d53
X-WR-TIMEZONE:America/Chicago
BEGIN:VTIMEZONE
TZID:America/Chicago
BEGIN:STANDARD
TZNAME:CST
DTSTART:20221106T020000
TZOFFSETFROM:-0500
TZOFFSETTO:-0600
RDATE:20231105T020000
END:STANDARD
BEGIN:DAYLIGHT
TZNAME:CDT
DTSTART:20220313T020000
TZOFFSETFROM:-0600
TZOFFSETTO:-0500
RDATE:20230312T020000
RDATE:20240310T020000
END:DAYLIGHT
END:VTIMEZONE
BEGIN:VEVENT
UID:f6085e16-04cf-4cc0-9305-5819ca4b2d94
DTSTAMP:20260422T234959Z
DESCRIPTION:On Tuesday\, February 14th\, \n2023 from 11am to 1pm\, we will 
 be having a chili cook­\noff in the Education Center.
DTSTART;TZID=America/Chicago:20230214T110000
DTEND;TZID=America/Chicago:20230214T130000
LOCATION:3880 South Columbia Road\, Grand Forks\, ND 58201 US
SUMMARY:Chili Cook-Off Challenge
END:VEVENT
END:VCALENDAR
