BEGIN:VCALENDAR
VERSION:2.0
PRODID:-//www.developmenthomes.org//NONSGML kigkonsult.se iCalcreator 2.30.
 10//
CALSCALE:GREGORIAN
METHOD:PUBLISH
UID:67c87395-7657-4eac-8c7e-1b46c877ab8c
X-WR-CALDESC:Supper will be served.\nDoor prizes for the presentation.\nRSV
 P to Cindy @701-335-4031 by 2/3
X-WR-RELCALID:4115e4049dd4815578700404bc68c739
X-WR-TIMEZONE:America/Chicago
BEGIN:VTIMEZONE
TZID:America/Chicago
BEGIN:STANDARD
TZNAME:CST
DTSTART:20221106T020000
TZOFFSETFROM:-0500
TZOFFSETTO:-0600
RDATE:20231105T020000
END:STANDARD
BEGIN:DAYLIGHT
TZNAME:CDT
DTSTART:20220313T020000
TZOFFSETFROM:-0600
TZOFFSETTO:-0500
RDATE:20230312T020000
RDATE:20240310T020000
END:DAYLIGHT
END:VTIMEZONE
BEGIN:VEVENT
UID:627d9f62-07cd-4381-8a8d-ec3b4e8dcf96
DTSTAMP:20260422T234816Z
DESCRIPTION:Supper will be served.\nDoor prizes for the presentation.\nRSVP
  to Cindy @701-335-4031 by 2/3
DTSTART;TZID=America/Chicago:20230215T163000
DTEND;TZID=America/Chicago:20230215T173000
LOCATION:3880 South Columbia Road\, Grand Forks\, ND 58201 US
SUMMARY:Rights Presentation
END:VEVENT
END:VCALENDAR
