BEGIN:VCALENDAR
VERSION:2.0
PRODID:-//www.developmenthomes.org//NONSGML kigkonsult.se iCalcreator 2.30.
 10//
CALSCALE:GREGORIAN
METHOD:PUBLISH
UID:da29fb3a-e735-43b0-8c31-425e6447bc07
X-WR-CALDESC:The Teen Night Out program provides students with disabilities
  with a safe environment to experience recreational activities and attend 
 sessions designed to enhance social skills and strengthen peer relationshi
 ps. The program is open to students in middle school through high school (
 ages 13-21) with disabilities. Participants must be accompanied by a paren
 t\, guardian or respite provider. \nt's important that you RSVP by calling
  Joan Karpenko at 701-330-8641 \nor send an email to joan@fvnd.org\n \n\n
X-WR-RELCALID:9962b09ce4d3fbd0d14e0147cdca59b6
X-WR-TIMEZONE:America/Chicago
BEGIN:VTIMEZONE
TZID:America/Chicago
BEGIN:STANDARD
TZNAME:CST
DTSTART:20221106T020000
TZOFFSETFROM:-0500
TZOFFSETTO:-0600
RDATE:20231105T020000
END:STANDARD
BEGIN:DAYLIGHT
TZNAME:CDT
DTSTART:20220313T020000
TZOFFSETFROM:-0600
TZOFFSETTO:-0500
RDATE:20230312T020000
RDATE:20240310T020000
END:DAYLIGHT
END:VTIMEZONE
BEGIN:VEVENT
UID:e72852a6-bce6-4206-9b7d-1176c66d1078
DTSTAMP:20260422T235118Z
DESCRIPTION:The Teen Night Out program provides students with disabilities 
 with a safe environment to experience recreational activities and attend s
 essions designed to enhance social skills and strengthen peer relationship
 s. The program is open to students in middle school through high school (a
 ges 13-21) with disabilities. Participants must be accompanied by a parent
 \, guardian or respite provider. \nt's important that you RSVP by calling 
 Joan Karpenko at 701-330-8641 \nor send an email to joan@fvnd.org\n \n\n
DTSTART;TZID=America/Chicago:20230216T173000
DTEND;TZID=America/Chicago:20230216T193000
LOCATION:3880 South Columbia Road\, Grand Forks\, ND 58201 US
SUMMARY:TEEN NIGHT OUT
END:VEVENT
END:VCALENDAR
