BEGIN:VCALENDAR
VERSION:2.0
PRODID:-//www.developmenthomes.org//NONSGML kigkonsult.se iCalcreator 2.30.
 10//
CALSCALE:GREGORIAN
METHOD:PUBLISH
UID:b1b71dfd-3bb5-42b6-9f87-a3d1928f0b65
X-WR-CALDESC:You're Invited. Come join us for Art Night! \nAll are invited.
X-WR-RELCALID:2953855fa162121ac6bb9938d4e2c7ec
X-WR-TIMEZONE:America/Chicago
BEGIN:VTIMEZONE
TZID:America/Chicago
BEGIN:STANDARD
TZNAME:CST
DTSTART:20221106T020000
TZOFFSETFROM:-0500
TZOFFSETTO:-0600
RDATE:20231105T020000
END:STANDARD
BEGIN:DAYLIGHT
TZNAME:CDT
DTSTART:20220313T020000
TZOFFSETFROM:-0600
TZOFFSETTO:-0500
RDATE:20230312T020000
RDATE:20240310T020000
END:DAYLIGHT
END:VTIMEZONE
BEGIN:VEVENT
UID:9631e294-3f93-4edd-9000-23c4bdd2a8ba
DTSTAMP:20260422T234832Z
DESCRIPTION:You're Invited. Come join us for Art Night! \nAll are invited.
DTSTART;TZID=America/Chicago:20230228T183000
DTEND;TZID=America/Chicago:20230228T193000
LOCATION:3880 South Columbia Road\, Grand Forks\, ND 58201 US
SUMMARY:Art Night
END:VEVENT
END:VCALENDAR
