BEGIN:VCALENDAR
VERSION:2.0
PRODID:-//www.developmenthomes.org//NONSGML kigkonsult.se iCalcreator 2.30.
 10//
CALSCALE:GREGORIAN
METHOD:PUBLISH
UID:cdc679c5-7311-4935-98ff-8df381d48b52
X-WR-CALDESC:
X-WR-RELCALID:0f51179b28729dd234b14e055525b7c7
X-WR-TIMEZONE:America/Chicago
BEGIN:VTIMEZONE
TZID:America/Chicago
BEGIN:STANDARD
TZNAME:CST
DTSTART:20221106T020000
TZOFFSETFROM:-0500
TZOFFSETTO:-0600
RDATE:20231105T020000
END:STANDARD
BEGIN:DAYLIGHT
TZNAME:CDT
DTSTART:20220313T020000
TZOFFSETFROM:-0600
TZOFFSETTO:-0500
RDATE:20230312T020000
RDATE:20240310T020000
END:DAYLIGHT
END:VTIMEZONE
BEGIN:VEVENT
UID:c43b301d-96b0-4975-aacc-a74bd8779c29
DTSTAMP:20260422T222727Z
DESCRIPTION:
DTSTART;TZID=America/Chicago:20230308T000000
DTEND;TZID=America/Chicago:20230308T235900
LOCATION:
SUMMARY:International Woman's Day
END:VEVENT
END:VCALENDAR
