BEGIN:VCALENDAR
VERSION:2.0
PRODID:-//www.developmenthomes.org//NONSGML kigkonsult.se iCalcreator 2.30.
 10//
CALSCALE:GREGORIAN
METHOD:PUBLISH
UID:71f839cb-95c1-454d-be97-104f58f414c7
X-WR-CALDESC:Daylight Saving Time begins on the second Sunday in March in t
 he USA. The practice gives people an extra hour of sunlight in the evening
  by setting the clock ahead one hour on a predetermined date each year.
X-WR-RELCALID:4c76b5c85d6fcff3582c52b4ced5a8b1
X-WR-TIMEZONE:America/Chicago
BEGIN:VTIMEZONE
TZID:America/Chicago
BEGIN:STANDARD
TZNAME:CST
DTSTART:20221106T020000
TZOFFSETFROM:-0500
TZOFFSETTO:-0600
RDATE:20231105T020000
END:STANDARD
BEGIN:DAYLIGHT
TZNAME:CDT
DTSTART:20220313T020000
TZOFFSETFROM:-0600
TZOFFSETTO:-0500
RDATE:20230312T020000
RDATE:20240310T020000
END:DAYLIGHT
END:VTIMEZONE
BEGIN:VEVENT
UID:3d448f5c-5b99-4fda-85fd-0fce207db042
DTSTAMP:20260422T222127Z
DESCRIPTION:Daylight Saving Time begins on the second Sunday in March in th
 e USA. The practice gives people an extra hour of sunlight in the evening 
 by setting the clock ahead one hour on a predetermined date each year.
DTSTART;TZID=America/Chicago:20230312T000000
DTEND;TZID=America/Chicago:20230312T005900
LOCATION:
SUMMARY:DAYLIGHT SAVING TIME
END:VEVENT
END:VCALENDAR
