BEGIN:VCALENDAR
VERSION:2.0
PRODID:-//www.developmenthomes.org//NONSGML kigkonsult.se iCalcreator 2.30.
 10//
CALSCALE:GREGORIAN
METHOD:PUBLISH
UID:dbffc93f-bf8d-41c1-97bd-7c993da36533
X-WR-CALDESC:National Pi Day on March 14th recognizes the mathematical cons
 tant π. Also known as pi\, the first three and most recognized digits are 
 3.14. The day is celebrated by pi enthusiasts and pie lovers alike!
X-WR-RELCALID:452da34fa5af6f544d4967b5c6ee839d
X-WR-TIMEZONE:America/Chicago
BEGIN:VTIMEZONE
TZID:America/Chicago
BEGIN:STANDARD
TZNAME:CST
DTSTART:20221106T020000
TZOFFSETFROM:-0500
TZOFFSETTO:-0600
RDATE:20231105T020000
END:STANDARD
BEGIN:DAYLIGHT
TZNAME:CDT
DTSTART:20230312T020000
TZOFFSETFROM:-0600
TZOFFSETTO:-0500
RDATE:20240310T020000
END:DAYLIGHT
END:VTIMEZONE
BEGIN:VEVENT
UID:0c061bc9-09cb-4ef9-a8c4-4b7078d051f3
DTSTAMP:20260422T222508Z
DESCRIPTION:National Pi Day on March 14th recognizes the mathematical const
 ant π. Also known as pi\, the first three and most recognized digits are 3
 .14. The day is celebrated by pi enthusiasts and pie lovers alike!
DTSTART;TZID=America/Chicago:20230314T000000
DTEND;TZID=America/Chicago:20230314T235900
LOCATION:
SUMMARY:NATIONAL PI DAY
END:VEVENT
END:VCALENDAR
