BEGIN:VCALENDAR
VERSION:2.0
PRODID:-//www.developmenthomes.org//NONSGML kigkonsult.se iCalcreator 2.30.
 10//
CALSCALE:GREGORIAN
METHOD:PUBLISH
UID:6369b11e-fb2a-4dfb-9631-6c81ea54f79d
X-WR-CALDESC:Pay Period (Hourly) 02/06/23 – 02/19/23
X-WR-RELCALID:0c5fbe7831663e29bc1fc410081a6714
X-WR-TIMEZONE:America/Chicago
BEGIN:VTIMEZONE
TZID:America/Chicago
BEGIN:STANDARD
TZNAME:CST
DTSTART:20221106T020000
TZOFFSETFROM:-0500
TZOFFSETTO:-0600
RDATE:20231105T020000
END:STANDARD
BEGIN:DAYLIGHT
TZNAME:CDT
DTSTART:20230312T020000
TZOFFSETFROM:-0600
TZOFFSETTO:-0500
RDATE:20240310T020000
END:DAYLIGHT
END:VTIMEZONE
BEGIN:VEVENT
UID:d4c20dd5-9409-4e32-ba3c-999bed4f065a
DTSTAMP:20260422T222345Z
DESCRIPTION:Pay Period (Hourly) 02/06/23 – 02/19/23
DTSTART;TZID=America/Chicago:20230315T000000
DTEND;TZID=America/Chicago:20230315T235900
LOCATION:
SUMMARY:Pay Day
END:VEVENT
END:VCALENDAR
