BEGIN:VCALENDAR
VERSION:2.0
PRODID:-//www.developmenthomes.org//NONSGML kigkonsult.se iCalcreator 2.30.
 10//
CALSCALE:GREGORIAN
METHOD:PUBLISH
UID:1db377f1-3464-4d9f-9b36-a2008f5fccab
X-WR-CALDESC:St. Patrick’s Day kicks off a worldwide celebration also known
  as the Feast of St. Patrick. On March 17th\, many will wear green in hono
 r of the Irish and decorate with shamrocks. According to lore\, the wearin
 g of the green tradition dates back to a story written about St. Patrick i
 n 1726. St. Patrick (c. AD 385–461) used the shamrock to illustrate the Ho
 ly Trinity and worn green clothing. And while the story is unlikely to be 
 true\, many will revel in the Irish heritage and eat traditional Irish far
 e\, too.
X-WR-RELCALID:2916b1966aef511935ee3fe00108d84d
X-WR-TIMEZONE:America/Chicago
BEGIN:VTIMEZONE
TZID:America/Chicago
BEGIN:STANDARD
TZNAME:CST
DTSTART:20221106T020000
TZOFFSETFROM:-0500
TZOFFSETTO:-0600
RDATE:20231105T020000
END:STANDARD
BEGIN:DAYLIGHT
TZNAME:CDT
DTSTART:20230312T020000
TZOFFSETFROM:-0600
TZOFFSETTO:-0500
RDATE:20240310T020000
END:DAYLIGHT
END:VTIMEZONE
BEGIN:VEVENT
UID:c91dda71-7e90-4e05-8422-6b95af32d3a9
DTSTAMP:20260422T222303Z
DESCRIPTION:St. Patrick’s Day kicks off a worldwide celebration also known 
 as the Feast of St. Patrick. On March 17th\, many will wear green in honor
  of the Irish and decorate with shamrocks. According to lore\, the wearing
  of the green tradition dates back to a story written about St. Patrick in
  1726. St. Patrick (c. AD 385–461) used the shamrock to illustrate the Hol
 y Trinity and worn green clothing. And while the story is unlikely to be t
 rue\, many will revel in the Irish heritage and eat traditional Irish fare
 \, too.
DTSTART;TZID=America/Chicago:20230317T000000
DTEND;TZID=America/Chicago:20230317T235900
LOCATION:
SUMMARY:ST. PATRICK’S DAY
END:VEVENT
END:VCALENDAR
