BEGIN:VCALENDAR
VERSION:2.0
PRODID:-//www.developmenthomes.org//NONSGML kigkonsult.se iCalcreator 2.30.
 10//
CALSCALE:GREGORIAN
METHOD:PUBLISH
UID:4f5c5d76-747e-464e-ad5a-632e46b22d8b
X-WR-CALDESC:World Social Work Day on the third Tuesday in March recognizes
  the hard work and dedication of social workers. A global organization of 
 social workers comes together for social justice\, human rights\, and soci
 al development all through the promotion of best practices in social work.
 \n\nSocial workers serve many roles in their communities. They assess thei
 r client’s needs and challenges. As advocates\, they speak for their clien
 ts\, getting them access to the resources they need to improve their lives
 . Social workers also respond to crisis situations.
X-WR-RELCALID:7a50bf0d9c97f2ba0da1b88666e8fa98
X-WR-TIMEZONE:America/Chicago
BEGIN:VTIMEZONE
TZID:America/Chicago
BEGIN:STANDARD
TZNAME:CST
DTSTART:20221106T020000
TZOFFSETFROM:-0500
TZOFFSETTO:-0600
RDATE:20231105T020000
END:STANDARD
BEGIN:DAYLIGHT
TZNAME:CDT
DTSTART:20230312T020000
TZOFFSETFROM:-0600
TZOFFSETTO:-0500
RDATE:20240310T020000
END:DAYLIGHT
END:VTIMEZONE
BEGIN:VEVENT
UID:103a6d2d-55d7-49af-a49a-d5f200bb147f
DTSTAMP:20260422T222212Z
DESCRIPTION:World Social Work Day on the third Tuesday in March recognizes 
 the hard work and dedication of social workers. A global organization of s
 ocial workers comes together for social justice\, human rights\, and socia
 l development all through the promotion of best practices in social work.
 \n\nSocial workers serve many roles in their communities. They assess thei
 r client’s needs and challenges. As advocates\, they speak for their clien
 ts\, getting them access to the resources they need to improve their lives
 . Social workers also respond to crisis situations.
DTSTART;TZID=America/Chicago:20230321T000000
DTEND;TZID=America/Chicago:20230321T235900
LOCATION:
SUMMARY:WORLD SOCIAL WORK DAY
END:VEVENT
END:VCALENDAR
