BEGIN:VCALENDAR
VERSION:2.0
PRODID:-//www.developmenthomes.org//NONSGML kigkonsult.se iCalcreator 2.30.
 10//
CALSCALE:GREGORIAN
METHOD:PUBLISH
UID:f3d786c7-4001-41d1-8c37-810ab2d4b00a
X-WR-CALDESC:Due to high winds forecasted\, Teen Night Out will be cancelle
 d tonight.
X-WR-RELCALID:d5a90e0f28ccef1ea060b883c5b5b05f
X-WR-TIMEZONE:America/Chicago
BEGIN:VTIMEZONE
TZID:America/Chicago
BEGIN:STANDARD
TZNAME:CST
DTSTART:20221106T020000
TZOFFSETFROM:-0500
TZOFFSETTO:-0600
RDATE:20231105T020000
END:STANDARD
BEGIN:DAYLIGHT
TZNAME:CDT
DTSTART:20230312T020000
TZOFFSETFROM:-0600
TZOFFSETTO:-0500
RDATE:20240310T020000
END:DAYLIGHT
END:VTIMEZONE
BEGIN:VEVENT
UID:581cb613-d41e-4147-9e0e-d523b933051e
DTSTAMP:20260422T222624Z
DESCRIPTION:Due to high winds forecasted\, Teen Night Out will be cancelled
  tonight.
DTSTART;TZID=America/Chicago:20230323T173000
DTEND;TZID=America/Chicago:20230323T193000
LOCATION:3880 South Columbia Road\, Grand Forks \, ND 58201 US
SUMMARY:TEEN NIGHT OUT
END:VEVENT
END:VCALENDAR
