BEGIN:VCALENDAR
VERSION:2.0
PRODID:-//www.developmenthomes.org//NONSGML kigkonsult.se iCalcreator 2.30.
 10//
CALSCALE:GREGORIAN
METHOD:PUBLISH
UID:5c2630e9-cbcc-4a9d-9faa-e035b0a8edde
X-WR-CALDESC:Epilepsy Awareness Day on March 26th aims to increase the publ
 ic’s knowledge of a neurological condition affecting nearly 50 million peo
 ple worldwide. Also known as Purple Day\, people are encouraged to wear pu
 rple in support of epilepsy awareness.
X-WR-RELCALID:ed9af8600395f5b8d01b1bc042d91dd9
X-WR-TIMEZONE:America/Chicago
BEGIN:VTIMEZONE
TZID:America/Chicago
BEGIN:STANDARD
TZNAME:CST
DTSTART:20221106T020000
TZOFFSETFROM:-0500
TZOFFSETTO:-0600
RDATE:20231105T020000
END:STANDARD
BEGIN:DAYLIGHT
TZNAME:CDT
DTSTART:20230312T020000
TZOFFSETFROM:-0600
TZOFFSETTO:-0500
RDATE:20240310T020000
END:DAYLIGHT
END:VTIMEZONE
BEGIN:VEVENT
UID:4633d96e-5eab-43f9-8596-86cf9140980c
DTSTAMP:20260422T230226Z
DESCRIPTION:Epilepsy Awareness Day on March 26th aims to increase the publi
 c’s knowledge of a neurological condition affecting nearly 50 million peop
 le worldwide. Also known as Purple Day\, people are encouraged to wear pur
 ple in support of epilepsy awareness.
DTSTART;TZID=America/Chicago:20230326T000000
DTEND;TZID=America/Chicago:20230326T235900
LOCATION:
SUMMARY:EPILEPSY AWARENESS DAY
END:VEVENT
END:VCALENDAR
