BEGIN:VCALENDAR
VERSION:2.0
PRODID:-//www.developmenthomes.org//NONSGML kigkonsult.se iCalcreator 2.30.
 10//
CALSCALE:GREGORIAN
METHOD:PUBLISH
UID:05a3ae50-1062-4c98-a9ea-45d61a5b91f3
X-WR-CALDESC:Pay Period (Hourly) 02/20/23 – 03/05/23
X-WR-RELCALID:298f681fa12ba9d569d2a59ec41d6349
X-WR-TIMEZONE:America/Chicago
BEGIN:VTIMEZONE
TZID:America/Chicago
BEGIN:STANDARD
TZNAME:CST
DTSTART:20221106T020000
TZOFFSETFROM:-0500
TZOFFSETTO:-0600
RDATE:20231105T020000
END:STANDARD
BEGIN:DAYLIGHT
TZNAME:CDT
DTSTART:20230312T020000
TZOFFSETFROM:-0600
TZOFFSETTO:-0500
RDATE:20240310T020000
END:DAYLIGHT
END:VTIMEZONE
BEGIN:VEVENT
UID:a5e19a23-3328-482a-beec-31133468bdf6
DTSTAMP:20260422T222339Z
DESCRIPTION:Pay Period (Hourly) 02/20/23 – 03/05/23
DTSTART;TZID=America/Chicago:20230331T000000
DTEND;TZID=America/Chicago:20230331T235900
LOCATION:
SUMMARY:Pay Day
END:VEVENT
END:VCALENDAR
