BEGIN:VCALENDAR
VERSION:2.0
PRODID:-//www.developmenthomes.org//NONSGML kigkonsult.se iCalcreator 2.30.
 10//
CALSCALE:GREGORIAN
METHOD:PUBLISH
UID:2ffa11ba-9403-48e6-b1b8-60f5fb220b88
X-WR-CALDESC:The Teen Night Out program provides students with disabilities
  with a safe environment to experience recreational activities and attend 
 sessions designed to enhance social skills and strengthen peer relationshi
 ps. The program is open to students in middle school through high school (
 ages 13-21) with disabilities. Participants must be accompanied by a paren
 t\, guardian or respite provider.  \n\nIt's important that you RSVP by cal
 ling Joan Karpenko at 701-330-8641 \nor send an email to \njoan@fvnd.org
X-WR-RELCALID:34f108e8e328fd7271f9031ea55334bf
X-WR-TIMEZONE:America/Chicago
BEGIN:VTIMEZONE
TZID:America/Chicago
BEGIN:STANDARD
TZNAME:CST
DTSTART:20221106T020000
TZOFFSETFROM:-0500
TZOFFSETTO:-0600
RDATE:20231105T020000
END:STANDARD
BEGIN:DAYLIGHT
TZNAME:CDT
DTSTART:20230312T020000
TZOFFSETFROM:-0600
TZOFFSETTO:-0500
RDATE:20240310T020000
END:DAYLIGHT
END:VTIMEZONE
BEGIN:VEVENT
UID:49cb168e-44b0-4e7c-89af-69dd819be17c
DTSTAMP:20260422T205637Z
DESCRIPTION:The Teen Night Out program provides students with disabilities 
 with a safe environment to experience recreational activities and attend s
 essions designed to enhance social skills and strengthen peer relationship
 s. The program is open to students in middle school through high school (a
 ges 13-21) with disabilities. Participants must be accompanied by a parent
 \, guardian or respite provider.  \n\nIt's important that you RSVP by call
 ing Joan Karpenko at 701-330-8641 \nor send an email to \njoan@fvnd.org
DTSTART;TZID=America/Chicago:20230418T173000
DTEND;TZID=America/Chicago:20230418T193000
LOCATION:2105 S Washington Street\, Grand Forks\, ND 58201 US
SUMMARY:Teen Night Out
END:VEVENT
END:VCALENDAR
