BEGIN:VCALENDAR
VERSION:2.0
PRODID:-//www.developmenthomes.org//NONSGML kigkonsult.se iCalcreator 2.30.
 10//
CALSCALE:GREGORIAN
METHOD:PUBLISH
UID:1418958b-8838-4451-95d0-1e26dfa0222f
X-WR-CALDESC:Organizational lunch meeting in the Education Center
X-WR-RELCALID:fb69ce53730e2ce74fd8cbcb302dce83
X-WR-TIMEZONE:America/Chicago
BEGIN:VTIMEZONE
TZID:America/Chicago
BEGIN:STANDARD
TZNAME:CST
DTSTART:20221106T020000
TZOFFSETFROM:-0500
TZOFFSETTO:-0600
RDATE:20231105T020000
END:STANDARD
BEGIN:DAYLIGHT
TZNAME:CDT
DTSTART:20230312T020000
TZOFFSETFROM:-0600
TZOFFSETTO:-0500
RDATE:20240310T020000
END:DAYLIGHT
END:VTIMEZONE
BEGIN:VEVENT
UID:db2bcd74-e316-4eec-ab09-dae5a01b48d4
DTSTAMP:20260422T205146Z
DESCRIPTION:Organizational lunch meeting in the Education Center
DTSTART;TZID=America/Chicago:20230421T120000
DTEND;TZID=America/Chicago:20230421T130000
LOCATION:3880 S Columbia Road\, Grand Forks\, ND 58201 US
SUMMARY:Speakers'Bureau
END:VEVENT
END:VCALENDAR
