BEGIN:VCALENDAR
VERSION:2.0
PRODID:-//www.developmenthomes.org//NONSGML kigkonsult.se iCalcreator 2.30.
 10//
CALSCALE:GREGORIAN
METHOD:PUBLISH
UID:678dedc3-bef1-45c6-97c3-e33c12b2a55f
X-WR-CALDESC:Founders Room
X-WR-RELCALID:429f40881e043d66506735fa98762cb8
X-WR-TIMEZONE:America/Chicago
BEGIN:VTIMEZONE
TZID:America/Chicago
BEGIN:STANDARD
TZNAME:CST
DTSTART:20221106T020000
TZOFFSETFROM:-0500
TZOFFSETTO:-0600
RDATE:20231105T020000
END:STANDARD
BEGIN:DAYLIGHT
TZNAME:CDT
DTSTART:20230312T020000
TZOFFSETFROM:-0600
TZOFFSETTO:-0500
RDATE:20240310T020000
END:DAYLIGHT
END:VTIMEZONE
BEGIN:VEVENT
UID:49512b7a-0cb4-4b81-91af-3a8a23e48a1a
DTSTAMP:20260422T205018Z
DESCRIPTION:Founders Room
DTSTART;TZID=America/Chicago:20230424T110000
DTEND;TZID=America/Chicago:20230424T123000
LOCATION:3880 South Columbia Road\, Grand Forks\, ND 58201 US
SUMMARY:Investment Committee
END:VEVENT
END:VCALENDAR
