BEGIN:VCALENDAR
VERSION:2.0
PRODID:-//www.developmenthomes.org//NONSGML kigkonsult.se iCalcreator 2.30.
 10//
CALSCALE:GREGORIAN
METHOD:PUBLISH
UID:1f9f9f42-7504-4607-8aff-b00e1687341c
X-WR-CALDESC:Music\, activities\, informational booths\, prizes and more! Y
 ou can register online by going www.developmenthomes.org and click on the 
 save the event date. \n
X-WR-RELCALID:ba38f0dec1b97203023b662f9fb9f0f4
X-WR-TIMEZONE:America/Chicago
BEGIN:VTIMEZONE
TZID:America/Chicago
BEGIN:STANDARD
TZNAME:CST
DTSTART:20221106T020000
TZOFFSETFROM:-0500
TZOFFSETTO:-0600
RDATE:20231105T020000
END:STANDARD
BEGIN:DAYLIGHT
TZNAME:CDT
DTSTART:20230312T020000
TZOFFSETFROM:-0600
TZOFFSETTO:-0500
RDATE:20240310T020000
END:DAYLIGHT
END:VTIMEZONE
BEGIN:VEVENT
UID:46ec223f-b7be-4b2f-93fa-6410f303be98
DTSTAMP:20260422T205442Z
DESCRIPTION:Music\, activities\, informational booths\, prizes and more! Yo
 u can register online by going www.developmenthomes.org and click on the s
 ave the event date. \n
DTSTART;TZID=America/Chicago:20230429T100000
DTEND;TZID=America/Chicago:20230429T120000
LOCATION:1726 S Washington St\, Grand Forks\, ND 58201 US
SUMMARY:Development Homes\, Inc. 8th Annual Autism Awareness Walk
END:VEVENT
END:VCALENDAR
