BEGIN:VCALENDAR
VERSION:2.0
PRODID:-//www.developmenthomes.org//NONSGML kigkonsult.se iCalcreator 2.30.
 10//
CALSCALE:GREGORIAN
METHOD:PUBLISH
UID:726108d1-e827-4315-8ff4-1135f3ce8b3b
X-WR-CALDESC:
X-WR-RELCALID:e1d1dc421d7cd8c692026cdc72365b52
X-WR-TIMEZONE:America/Chicago
BEGIN:VTIMEZONE
TZID:America/Chicago
BEGIN:STANDARD
TZNAME:CST
DTSTART:20221106T020000
TZOFFSETFROM:-0500
TZOFFSETTO:-0600
RDATE:20231105T020000
RDATE:20241103T020000
END:STANDARD
BEGIN:DAYLIGHT
TZNAME:CDT
DTSTART:20230312T020000
TZOFFSETFROM:-0600
TZOFFSETTO:-0500
RDATE:20240310T020000
END:DAYLIGHT
END:VTIMEZONE
BEGIN:VEVENT
UID:ff4c1b0b-5371-41de-92a5-45a69e083ab5
DTSTAMP:20260422T190544Z
DESCRIPTION:
DTSTART;TZID=America/Chicago:20230523T174500
DTEND;TZID=America/Chicago:20230523T193000
LOCATION:3880 South Columbia Road\, Grand Forks\, ND 58201 US
SUMMARY:Gaming Committee
END:VEVENT
END:VCALENDAR
