BEGIN:VCALENDAR
VERSION:2.0
PRODID:-//www.developmenthomes.org//NONSGML kigkonsult.se iCalcreator 2.30.
 10//
CALSCALE:GREGORIAN
METHOD:PUBLISH
UID:21904963-c728-4c9e-a2e5-6dd9ad225193
X-WR-CALDESC:https://gfcc-developmenthomesinc1.golfgenius.com/register \nGo
 lf Genius App GGJD cgdg: DHl2023 \nDate: July\, 13th 2023 \nCheck-In: 10AM
  \nShotgun Start: 11AM \nDinner: 5PM \nGrand Forks Country \nClub 794 Coun
 ty Road 6 \nGrand Forks. ND 58201
X-WR-RELCALID:0c0e20439b81c0ada5d8af9ce9809616
X-WR-TIMEZONE:America/Chicago
BEGIN:VTIMEZONE
TZID:America/Chicago
BEGIN:STANDARD
TZNAME:CST
DTSTART:20221106T020000
TZOFFSETFROM:-0500
TZOFFSETTO:-0600
RDATE:20231105T020000
RDATE:20241103T020000
END:STANDARD
BEGIN:DAYLIGHT
TZNAME:CDT
DTSTART:20230312T020000
TZOFFSETFROM:-0600
TZOFFSETTO:-0500
RDATE:20240310T020000
END:DAYLIGHT
END:VTIMEZONE
BEGIN:VEVENT
UID:e552b670-608f-464b-8209-e737a130c7cf
DTSTAMP:20260422T152838Z
DESCRIPTION:https://gfcc-developmenthomesinc1.golfgenius.com/register \nGol
 f Genius App GGJD cgdg: DHl2023 \nDate: July\, 13th 2023 \nCheck-In: 10AM 
 \nShotgun Start: 11AM \nDinner: 5PM \nGrand Forks Country \nClub 794 Count
 y Road 6 \nGrand Forks. ND 58201
DTSTART;TZID=America/Chicago:20230713T100000
DTEND;TZID=America/Chicago:20230713T183000
LOCATION:794 County Road 6\, Grand Forks\, ND 58201 US
SUMMARY:DHI 14th Annual Golf Tournament
END:VEVENT
END:VCALENDAR
