BEGIN:VCALENDAR
VERSION:2.0
PRODID:-//www.developmenthomes.org//NONSGML kigkonsult.se iCalcreator 2.30.
 10//
CALSCALE:GREGORIAN
METHOD:PUBLISH
UID:883cad50-b5ac-4752-808b-10864d06cab4
X-WR-CALDESC:What is Connecting Generations? Based off of Teen Night Out\, 
 Connecting Generations is a newly formed program that serves individuals f
 rom all agencies. Our mission is to bring people from 13-113 years old tog
 ether a couple times throughout the year. This will build social capital a
 nd enhance friendships of all generations. \n\nPizza and Prizes
X-WR-RELCALID:7210c247c5251a031b74f7661dfa5aa6
X-WR-TIMEZONE:America/Chicago
BEGIN:VTIMEZONE
TZID:America/Chicago
BEGIN:STANDARD
TZNAME:CST
DTSTART:20221106T020000
TZOFFSETFROM:-0500
TZOFFSETTO:-0600
RDATE:20231105T020000
RDATE:20241103T020000
END:STANDARD
BEGIN:DAYLIGHT
TZNAME:CDT
DTSTART:20230312T020000
TZOFFSETFROM:-0600
TZOFFSETTO:-0500
RDATE:20240310T020000
END:DAYLIGHT
END:VTIMEZONE
BEGIN:VEVENT
UID:1948a9bf-4a86-4aec-b6e8-b65c8a9ff9b4
DTSTAMP:20260422T155045Z
DESCRIPTION:What is Connecting Generations? Based off of Teen Night Out\, C
 onnecting Generations is a newly formed program that serves individuals fr
 om all agencies. Our mission is to bring people from 13-113 years old toge
 ther a couple times throughout the year. This will build social capital an
 d enhance friendships of all generations. \n\nPizza and Prizes
DTSTART;TZID=America/Chicago:20230720T170000
DTEND;TZID=America/Chicago:20230720T190000
LOCATION:2100 South Washington\, Grand Forks\, ND 58201 US
SUMMARY:Generations Bingo
END:VEVENT
END:VCALENDAR
