BEGIN:VCALENDAR
VERSION:2.0
PRODID:-//www.developmenthomes.org//NONSGML kigkonsult.se iCalcreator 2.30.
 10//
CALSCALE:GREGORIAN
METHOD:PUBLISH
UID:3f9b6094-326b-4563-a874-bee196f48052
X-WR-CALDESC:
X-WR-RELCALID:b58cab4e053336347eb992ea42e1bbc9
X-WR-TIMEZONE:America/Chicago
BEGIN:VTIMEZONE
TZID:America/Chicago
BEGIN:STANDARD
TZNAME:CST
DTSTART:20221106T020000
TZOFFSETFROM:-0500
TZOFFSETTO:-0600
RDATE:20231105T020000
RDATE:20241103T020000
END:STANDARD
BEGIN:DAYLIGHT
TZNAME:CDT
DTSTART:20230312T020000
TZOFFSETFROM:-0600
TZOFFSETTO:-0500
RDATE:20240310T020000
END:DAYLIGHT
END:VTIMEZONE
BEGIN:VEVENT
UID:6e878f79-9d5f-4ebf-8d67-07ab59dce337
DTSTAMP:20260422T141037Z
DESCRIPTION:
DTSTART;TZID=America/Chicago:20230821T120000
DTEND;TZID=America/Chicago:20230821T133000
LOCATION:Founders Room
SUMMARY:Executive Committee
END:VEVENT
END:VCALENDAR
