BEGIN:VCALENDAR
VERSION:2.0
PRODID:-//www.developmenthomes.org//NONSGML kigkonsult.se iCalcreator 2.30.
 10//
CALSCALE:GREGORIAN
METHOD:PUBLISH
UID:2d1a668b-24dd-472f-8fd6-b0a3c835e292
X-WR-CALDESC:
X-WR-RELCALID:c21887e65df3fb8756df6d7d8c28929c
X-WR-TIMEZONE:America/Chicago
BEGIN:VTIMEZONE
TZID:America/Chicago
BEGIN:STANDARD
TZNAME:CST
DTSTART:20221106T020000
TZOFFSETFROM:-0500
TZOFFSETTO:-0600
RDATE:20231105T020000
RDATE:20241103T020000
END:STANDARD
BEGIN:DAYLIGHT
TZNAME:CDT
DTSTART:20230312T020000
TZOFFSETFROM:-0600
TZOFFSETTO:-0500
RDATE:20240310T020000
END:DAYLIGHT
END:VTIMEZONE
BEGIN:VEVENT
UID:c6890fa1-46af-4692-825b-41ac68328870
DTSTAMP:20260422T140623Z
DESCRIPTION:
DTSTART;TZID=America/Chicago:20230823T130000
DTEND;TZID=America/Chicago:20230823T150000
LOCATION:Education Center
SUMMARY:Dessert Contest
END:VEVENT
END:VCALENDAR
