BEGIN:VCALENDAR
VERSION:2.0
PRODID:-//www.developmenthomes.org//NONSGML kigkonsult.se iCalcreator 2.30.
 10//
CALSCALE:GREGORIAN
METHOD:PUBLISH
UID:b65da65a-c152-489e-a574-277c35280ab4
X-WR-CALDESC:Need to RSVP by calling Joan Karpenko
X-WR-RELCALID:0a87d6e617830755898a51e2d23c86dc
X-WR-TIMEZONE:America/Chicago
BEGIN:VTIMEZONE
TZID:America/Chicago
BEGIN:STANDARD
TZNAME:CST
DTSTART:20221106T020000
TZOFFSETFROM:-0500
TZOFFSETTO:-0600
RDATE:20231105T020000
RDATE:20241103T020000
END:STANDARD
BEGIN:DAYLIGHT
TZNAME:CDT
DTSTART:20230312T020000
TZOFFSETFROM:-0600
TZOFFSETTO:-0500
RDATE:20240310T020000
END:DAYLIGHT
END:VTIMEZONE
BEGIN:VEVENT
UID:fd3d330a-bec6-41cc-b014-756aedeb200a
DTSTAMP:20260422T135817Z
DESCRIPTION:Need to RSVP by calling Joan Karpenko
DTSTART;TZID=America/Chicago:20230824T173000
DTEND;TZID=America/Chicago:20230824T190000
LOCATION:3880 South Columbia Road\, Grand Forks\, ND 58201 US
SUMMARY:Teen Night Out
END:VEVENT
END:VCALENDAR
