BEGIN:VCALENDAR
VERSION:2.0
PRODID:-//www.developmenthomes.org//NONSGML kigkonsult.se iCalcreator 2.30.
 10//
CALSCALE:GREGORIAN
METHOD:PUBLISH
UID:46b6fd2d-a644-4cde-bdc6-88b0f988d3dc
X-WR-CALDESC:THIS EVENT HAS BEEN CANCELLED DUE TO WEATHER\n\nFor questions 
 concerning weather conditions on the day of the event\, please call Develo
 pment Homes @ 335-4000\n
X-WR-RELCALID:d9008837ad82e637bb33d01ff6dcd149
X-WR-TIMEZONE:America/Chicago
BEGIN:VTIMEZONE
TZID:America/Chicago
BEGIN:STANDARD
TZNAME:CST
DTSTART:20221106T020000
TZOFFSETFROM:-0500
TZOFFSETTO:-0600
RDATE:20231105T020000
RDATE:20241103T020000
END:STANDARD
BEGIN:DAYLIGHT
TZNAME:CDT
DTSTART:20230312T020000
TZOFFSETFROM:-0600
TZOFFSETTO:-0500
RDATE:20240310T020000
RDATE:20250309T020000
END:DAYLIGHT
END:VTIMEZONE
BEGIN:VEVENT
UID:01c2d31a-09c6-46c1-9ef6-4c41eecf10fe
DTSTAMP:20260422T122233Z
DESCRIPTION:THIS EVENT HAS BEEN CANCELLED DUE TO WEATHER\n\nFor questions c
 oncerning weather conditions on the day of the event\, please call Develop
 ment Homes @ 335-4000\n
DTSTART;TZID=America/Chicago:20230928T163000
DTEND;TZID=America/Chicago:20230928T193000
LOCATION:THIS EVENT HAS BEEN CANCELLED DUE TO WEATHER
SUMMARY:**CANCELLED**Inter-Agency Picnic
END:VEVENT
END:VCALENDAR
