BEGIN:VCALENDAR
VERSION:2.0
PRODID:-//www.developmenthomes.org//NONSGML kigkonsult.se iCalcreator 2.30.
 10//
CALSCALE:GREGORIAN
METHOD:PUBLISH
UID:245986f1-31d8-4145-9733-3a4705be6908
X-WR-CALDESC:PUMPKIN PAINTING\n\nPlease RSVP by calling Joan Karpenko at 70
 1.330.8641.\n\nPizza and Cupcakes will be served!
X-WR-RELCALID:cc87f7e443e6e7af889d53762814983e
X-WR-TIMEZONE:America/Chicago
BEGIN:VTIMEZONE
TZID:America/Chicago
BEGIN:STANDARD
TZNAME:CST
DTSTART:20221106T020000
TZOFFSETFROM:-0500
TZOFFSETTO:-0600
RDATE:20231105T020000
RDATE:20241103T020000
END:STANDARD
BEGIN:DAYLIGHT
TZNAME:CDT
DTSTART:20230312T020000
TZOFFSETFROM:-0600
TZOFFSETTO:-0500
RDATE:20240310T020000
RDATE:20250309T020000
END:DAYLIGHT
END:VTIMEZONE
BEGIN:VEVENT
UID:b7a20850-d5c2-4a0f-868b-c4867b2d1455
DTSTAMP:20260422T105039Z
DESCRIPTION:PUMPKIN PAINTING\n\nPlease RSVP by calling Joan Karpenko at 701
 .330.8641.\n\nPizza and Cupcakes will be served!
DTSTART;TZID=America/Chicago:20231026T173000
DTEND;TZID=America/Chicago:20231026T190000
LOCATION:3880 South Columbia Road\, Grand Forks\, ND 58201 US
SUMMARY:**CANCELLED**Teen Night Out
END:VEVENT
END:VCALENDAR
