BEGIN:VCALENDAR
VERSION:2.0
PRODID:-//www.developmenthomes.org//NONSGML kigkonsult.se iCalcreator 2.30.
 10//
CALSCALE:GREGORIAN
METHOD:PUBLISH
UID:bbad2505-a97c-4880-b9f3-985db1964462
X-WR-CALDESC:Come celebrate and honor those whom have achieved outstanding 
 performance and length-of-service milestones.\n\nRSVP by Oct. 3rd to Trist
 a Kopp #701.335.4000 (tkopp@developmenthomes.org)
X-WR-RELCALID:a9323fccefd948f8e9f5111d12d5389f
X-WR-TIMEZONE:America/Chicago
BEGIN:VTIMEZONE
TZID:America/Chicago
BEGIN:STANDARD
TZNAME:CST
DTSTART:20221106T020000
TZOFFSETFROM:-0500
TZOFFSETTO:-0600
RDATE:20231105T020000
RDATE:20241103T020000
END:STANDARD
BEGIN:DAYLIGHT
TZNAME:CDT
DTSTART:20230312T020000
TZOFFSETFROM:-0600
TZOFFSETTO:-0500
RDATE:20240310T020000
RDATE:20250309T020000
END:DAYLIGHT
END:VTIMEZONE
BEGIN:VEVENT
UID:2b66b2a1-ff5c-490e-bbcd-794f2f7d4f83
DTSTAMP:20260422T110429Z
DESCRIPTION:Come celebrate and honor those whom have achieved outstanding p
 erformance and length-of-service milestones.\n\nRSVP by Oct. 3rd to Trista
  Kopp #701.335.4000 (tkopp@developmenthomes.org)
DTSTART;TZID=America/Chicago:20231026T120000
DTEND;TZID=America/Chicago:20231026T140000
LOCATION:The Alerus Center\, 1200 South 42nd Street\, Grand Forks\, ND 5820
 1 US
SUMMARY:Employee Recognition Banquet
END:VEVENT
END:VCALENDAR
