BEGIN:VCALENDAR
VERSION:2.0
PRODID:-//www.developmenthomes.org//NONSGML kigkonsult.se iCalcreator 2.30.
 10//
CALSCALE:GREGORIAN
METHOD:PUBLISH
UID:d2c11ccc-fbd4-40a9-a0b6-dd3fdbd67c0b
X-WR-CALDESC:
X-WR-RELCALID:b144aeb79505a846a976c55b5f9fa922
X-WR-TIMEZONE:America/Chicago
BEGIN:VTIMEZONE
TZID:America/Chicago
BEGIN:STANDARD
TZNAME:CST
DTSTART:20221106T020000
TZOFFSETFROM:-0500
TZOFFSETTO:-0600
RDATE:20231105T020000
RDATE:20241103T020000
END:STANDARD
BEGIN:DAYLIGHT
TZNAME:CDT
DTSTART:20230312T020000
TZOFFSETFROM:-0600
TZOFFSETTO:-0500
RDATE:20240310T020000
RDATE:20250309T020000
END:DAYLIGHT
END:VTIMEZONE
BEGIN:VEVENT
UID:f7eaf3d5-bdf9-4c12-b67c-3a93981cc849
DTSTAMP:20260422T111004Z
DESCRIPTION:
DTSTART;TZID=America/Chicago:20231030T140000
DTEND;TZID=America/Chicago:20231030T153000
LOCATION:3880 South Columbia Road\, Grand Forks\, ND 58201 US
SUMMARY:Monster Mash Fright Night
END:VEVENT
END:VCALENDAR
