BEGIN:VCALENDAR
VERSION:2.0
PRODID:-//www.developmenthomes.org//NONSGML kigkonsult.se iCalcreator 2.30.
 10//
CALSCALE:GREGORIAN
METHOD:PUBLISH
UID:8118dd55-7e82-44e2-9f2f-fae07473dc0a
X-WR-CALDESC:To participate please bring one nonperishable food item
X-WR-RELCALID:31009d62aa976f5da0638b32e91c7d9b
X-WR-TIMEZONE:America/Chicago
BEGIN:VTIMEZONE
TZID:America/Chicago
BEGIN:STANDARD
TZNAME:CST
DTSTART:20221106T020000
TZOFFSETFROM:-0500
TZOFFSETTO:-0600
RDATE:20231105T020000
RDATE:20241103T020000
END:STANDARD
BEGIN:DAYLIGHT
TZNAME:CDT
DTSTART:20230312T020000
TZOFFSETFROM:-0600
TZOFFSETTO:-0500
RDATE:20240310T020000
RDATE:20250309T020000
END:DAYLIGHT
END:VTIMEZONE
BEGIN:VEVENT
UID:2f67d588-a15e-4985-a8a2-87fce35c01b1
DTSTAMP:20260422T110750Z
DESCRIPTION:To participate please bring one nonperishable food item
DTSTART;TZID=America/Chicago:20231031T110000
DTEND;TZID=America/Chicago:20231031T130000
LOCATION:Education Center
SUMMARY:GOOOULASH
END:VEVENT
END:VCALENDAR
