BEGIN:VCALENDAR
VERSION:2.0
PRODID:-//www.developmenthomes.org//NONSGML kigkonsult.se iCalcreator 2.30.
 10//
CALSCALE:GREGORIAN
METHOD:PUBLISH
UID:a6e0c4a5-27c1-4e95-80f1-bd4173d7b3cc
X-WR-CALDESC:
X-WR-RELCALID:7ad0817d7098608e53a416015b231cab
X-WR-TIMEZONE:America/Chicago
BEGIN:VTIMEZONE
TZID:America/Chicago
BEGIN:STANDARD
TZNAME:CST
DTSTART:20231105T020000
TZOFFSETFROM:-0500
TZOFFSETTO:-0600
RDATE:20241103T020000
END:STANDARD
BEGIN:DAYLIGHT
TZNAME:CDT
DTSTART:20230312T020000
TZOFFSETFROM:-0600
TZOFFSETTO:-0500
RDATE:20240310T020000
RDATE:20250309T020000
END:DAYLIGHT
END:VTIMEZONE
BEGIN:VEVENT
UID:615190d1-e242-4673-9ef4-5190d8c426df
DTSTAMP:20260422T090638Z
DESCRIPTION:
DTSTART;TZID=America/Chicago:20231128T190000
DTEND;TZID=America/Chicago:20231128T210000
LOCATION:3880 South Columbia Road\, Grand Forks\, ND 58201 US
SUMMARY:Full Board
END:VEVENT
END:VCALENDAR
