BEGIN:VCALENDAR
VERSION:2.0
PRODID:-//www.developmenthomes.org//NONSGML kigkonsult.se iCalcreator 2.30.
 10//
CALSCALE:GREGORIAN
METHOD:PUBLISH
UID:8bbbd4f1-919d-4a43-b4e1-b4078b4c3898
X-WR-CALDESC:Hello Everyone! December's Art Night will be held at All Seaso
 ns Garden Center\nThere are limited seats available to make a Merry Mug! 
 \nPlease RSVP to Kari Brady kbrady@developmenthomes.org by Thursday\, Dece
 mber 7th. \nThere will be no other Art Night in December.\n
X-WR-RELCALID:509f07f6b225a002e6500fc593e2c093
X-WR-TIMEZONE:America/Chicago
BEGIN:VTIMEZONE
TZID:America/Chicago
BEGIN:STANDARD
TZNAME:CST
DTSTART:20231105T020000
TZOFFSETFROM:-0500
TZOFFSETTO:-0600
RDATE:20241103T020000
END:STANDARD
BEGIN:DAYLIGHT
TZNAME:CDT
DTSTART:20230312T020000
TZOFFSETFROM:-0600
TZOFFSETTO:-0500
RDATE:20240310T020000
RDATE:20250309T020000
END:DAYLIGHT
END:VTIMEZONE
BEGIN:VEVENT
UID:379395ef-2ce2-4b6d-8fe8-51056793deb2
DTSTAMP:20260422T075511Z
DESCRIPTION:Hello Everyone! December's Art Night will be held at All Season
 s Garden Center\nThere are limited seats available to make a Merry Mug! \n
 Please RSVP to Kari Brady kbrady@developmenthomes.org by Thursday\, Decemb
 er 7th. \nThere will be no other Art Night in December.\n
DTSTART;TZID=America/Chicago:20231211T180000
DTEND;TZID=America/Chicago:20231211T193000
LOCATION:5101 South Washington Street\, Grand Forks\, ND 58201 US
SUMMARY:ART NIGHT
END:VEVENT
END:VCALENDAR
