BEGIN:VCALENDAR
VERSION:2.0
PRODID:-//www.developmenthomes.org//NONSGML kigkonsult.se iCalcreator 2.30.
 10//
CALSCALE:GREGORIAN
METHOD:PUBLISH
UID:fc55f125-7859-4700-8548-f75b985e3b2f
X-WR-CALDESC:
X-WR-RELCALID:85b6e2a313797962eeb9179b6ee3e27a
X-WR-TIMEZONE:America/Chicago
BEGIN:VTIMEZONE
TZID:America/Chicago
BEGIN:STANDARD
TZNAME:CST
DTSTART:20231105T020000
TZOFFSETFROM:-0500
TZOFFSETTO:-0600
RDATE:20241103T020000
END:STANDARD
BEGIN:DAYLIGHT
TZNAME:CDT
DTSTART:20230312T020000
TZOFFSETFROM:-0600
TZOFFSETTO:-0500
RDATE:20240310T020000
RDATE:20250309T020000
END:DAYLIGHT
END:VTIMEZONE
BEGIN:VEVENT
UID:93823ce1-a9a9-4815-bd08-86d3fb33f5e7
DTSTAMP:20260422T073636Z
DESCRIPTION:
DTSTART;TZID=America/Chicago:20231222T050000
DTEND;TZID=America/Chicago:20231222T050001
LOCATION:3880 South Columbia Road\, Grand Forks\, AL 58201 US
SUMMARY:Christmas Eve 3pm Closure for Corporate Office Staff
END:VEVENT
END:VCALENDAR
