BEGIN:VCALENDAR
VERSION:2.0
PRODID:-//www.developmenthomes.org//NONSGML kigkonsult.se iCalcreator 2.30.
 10//
CALSCALE:GREGORIAN
METHOD:PUBLISH
UID:c2a023b9-3928-4946-b482-5ef59f16eee3
X-WR-CALDESC:
X-WR-RELCALID:f5395f7fbe13e3adbb87c529a2cd242c
X-WR-TIMEZONE:America/Chicago
BEGIN:VTIMEZONE
TZID:America/Chicago
BEGIN:STANDARD
TZNAME:CST
DTSTART:20231105T020000
TZOFFSETFROM:-0500
TZOFFSETTO:-0600
RDATE:20241103T020000
END:STANDARD
BEGIN:DAYLIGHT
TZNAME:CDT
DTSTART:20230312T020000
TZOFFSETFROM:-0600
TZOFFSETTO:-0500
RDATE:20240310T020000
RDATE:20250309T020000
END:DAYLIGHT
END:VTIMEZONE
BEGIN:VEVENT
UID:8a4024af-34cf-4926-a728-555c15cd1e4d
DTSTAMP:20260422T075734Z
DESCRIPTION:
DTSTART;TZID=America/Chicago:20231224T050000
DTEND;TZID=America/Chicago:20231224T050001
LOCATION:3880 South Columbia Road\, Grand Forks\, AL 58201 US
SUMMARY:Christmas Eve 3pm Closure for Direct Support/Gaming
END:VEVENT
END:VCALENDAR
