BEGIN:VCALENDAR
VERSION:2.0
PRODID:-//www.developmenthomes.org//NONSGML kigkonsult.se iCalcreator 2.30.
 10//
CALSCALE:GREGORIAN
METHOD:PUBLISH
UID:65bf8bba-a98a-4bb6-837e-fe0e47c51389
X-WR-CALDESC:
X-WR-RELCALID:213113534867b0854251a68af0eb5dea
X-WR-TIMEZONE:America/Chicago
BEGIN:VTIMEZONE
TZID:America/Chicago
BEGIN:STANDARD
TZNAME:CST
DTSTART:20231105T020000
TZOFFSETFROM:-0500
TZOFFSETTO:-0600
RDATE:20241103T020000
END:STANDARD
BEGIN:DAYLIGHT
TZNAME:CDT
DTSTART:20230312T020000
TZOFFSETFROM:-0600
TZOFFSETTO:-0500
RDATE:20240310T020000
RDATE:20250309T020000
END:DAYLIGHT
END:VTIMEZONE
BEGIN:VEVENT
UID:7a385435-b1a1-4fb6-98a6-8664e2f7c50e
DTSTAMP:20260422T074532Z
DESCRIPTION:
DTSTART;TZID=America/Chicago:20231225T050000
DTEND;TZID=America/Chicago:20231225T050001
LOCATION:3880 South Columbia Road\, Grand Forks\, AL 58201 US
SUMMARY:Christmas Day Closure for Corporate Office Staff
END:VEVENT
END:VCALENDAR
