BEGIN:VCALENDAR
VERSION:2.0
PRODID:-//www.developmenthomes.org//NONSGML kigkonsult.se iCalcreator 2.30.
 10//
CALSCALE:GREGORIAN
METHOD:PUBLISH
UID:4a1bb34d-0885-4974-abe7-7dc4c84b9933
X-WR-CALDESC:
X-WR-RELCALID:34d5ddd358990a271b15bd6ae0097684
X-WR-TIMEZONE:America/Chicago
BEGIN:VTIMEZONE
TZID:America/Chicago
BEGIN:STANDARD
TZNAME:CST
DTSTART:20231105T020000
TZOFFSETFROM:-0500
TZOFFSETTO:-0600
RDATE:20241103T020000
END:STANDARD
BEGIN:DAYLIGHT
TZNAME:CDT
DTSTART:20230312T020000
TZOFFSETFROM:-0600
TZOFFSETTO:-0500
RDATE:20240310T020000
RDATE:20250309T020000
END:DAYLIGHT
END:VTIMEZONE
BEGIN:VEVENT
UID:c5276c46-012d-41b0-a7c2-38ca02dcf189
DTSTAMP:20260422T075207Z
DESCRIPTION:
DTSTART;TZID=America/Chicago:20231225T050000
DTEND;TZID=America/Chicago:20231225T050001
LOCATION:3880 South Columbia Road\, Grand Forks\, AL 58201 US
SUMMARY:Christmas Day Closure for Direct Support/Gaming
END:VEVENT
END:VCALENDAR
