BEGIN:VCALENDAR
VERSION:2.0
PRODID:-//www.developmenthomes.org//NONSGML kigkonsult.se iCalcreator 2.30.
 10//
CALSCALE:GREGORIAN
METHOD:PUBLISH
UID:b088ca6c-5736-4209-bf22-21d508c6442d
X-WR-CALDESC:
X-WR-RELCALID:cbac7d36d2e689c1743cdb03c7eae781
X-WR-TIMEZONE:America/Chicago
BEGIN:VTIMEZONE
TZID:America/Chicago
BEGIN:STANDARD
TZNAME:CST
DTSTART:20231105T020000
TZOFFSETFROM:-0500
TZOFFSETTO:-0600
RDATE:20241103T020000
END:STANDARD
BEGIN:DAYLIGHT
TZNAME:CDT
DTSTART:20230312T020000
TZOFFSETFROM:-0600
TZOFFSETTO:-0500
RDATE:20240310T020000
RDATE:20250309T020000
END:DAYLIGHT
END:VTIMEZONE
BEGIN:VEVENT
UID:0ae18993-e16d-48c2-9627-cd8f61ed774e
DTSTAMP:20260422T075146Z
DESCRIPTION:
DTSTART;TZID=America/Chicago:20231229T050000
DTEND;TZID=America/Chicago:20231229T050001
LOCATION:3880 South Columbia Road\, Grand Forks\, AL 58201 US
SUMMARY:New Year's Eve 3PM Closure for Corporate Office Staff
END:VEVENT
END:VCALENDAR
