BEGIN:VCALENDAR
VERSION:2.0
PRODID:-//www.developmenthomes.org//NONSGML kigkonsult.se iCalcreator 2.30.
 10//
CALSCALE:GREGORIAN
METHOD:PUBLISH
UID:648ae039-67bb-4609-99e0-e1f71cf1cce3
X-WR-CALDESC:
X-WR-RELCALID:cdd98adf64f32936cbb78c9f870ed2f7
X-WR-TIMEZONE:America/Chicago
BEGIN:VTIMEZONE
TZID:America/Chicago
BEGIN:STANDARD
TZNAME:CST
DTSTART:20231105T020000
TZOFFSETFROM:-0500
TZOFFSETTO:-0600
RDATE:20241103T020000
END:STANDARD
BEGIN:DAYLIGHT
TZNAME:CDT
DTSTART:20230312T020000
TZOFFSETFROM:-0600
TZOFFSETTO:-0500
RDATE:20240310T020000
RDATE:20250309T020000
END:DAYLIGHT
END:VTIMEZONE
BEGIN:VEVENT
UID:a88931e7-44b3-4df0-9c21-23ef326e3a5d
DTSTAMP:20260422T074116Z
DESCRIPTION:
DTSTART;TZID=America/Chicago:20231231T050000
DTEND;TZID=America/Chicago:20231231T050001
LOCATION:3880 South Columbia Road\, Grand Forks\, AL 58201 US
SUMMARY:New Year's Eve 3PM Closure for Direct Support/Gaming
END:VEVENT
END:VCALENDAR
