BEGIN:VCALENDAR
VERSION:2.0
PRODID:-//www.developmenthomes.org//NONSGML kigkonsult.se iCalcreator 2.30.
 10//
CALSCALE:GREGORIAN
METHOD:PUBLISH
UID:e73e2859-bd26-4596-85b5-f1f6e5cca58d
X-WR-CALDESC:
X-WR-RELCALID:0d11607ade9050d0ff766140163b86a9
X-WR-TIMEZONE:America/Chicago
BEGIN:VTIMEZONE
TZID:America/Chicago
BEGIN:STANDARD
TZNAME:CST
DTSTART:20231105T020000
TZOFFSETFROM:-0500
TZOFFSETTO:-0600
RDATE:20241103T020000
END:STANDARD
BEGIN:DAYLIGHT
TZNAME:CDT
DTSTART:20230312T020000
TZOFFSETFROM:-0600
TZOFFSETTO:-0500
RDATE:20240310T020000
RDATE:20250309T020000
END:DAYLIGHT
END:VTIMEZONE
BEGIN:VEVENT
UID:e20f0932-cb91-4472-aa11-7476aa5296d1
DTSTAMP:20260422T061336Z
DESCRIPTION:
DTSTART;TZID=America/Chicago:20240108T120000
DTEND;TZID=America/Chicago:20240108T130000
LOCATION:3880 South Columbia Road\, Grand Forks\, ND 58201 US
SUMMARY:HR Committe TBD
END:VEVENT
END:VCALENDAR
