BEGIN:VCALENDAR
VERSION:2.0
PRODID:-//www.developmenthomes.org//NONSGML kigkonsult.se iCalcreator 2.30.
 10//
CALSCALE:GREGORIAN
METHOD:PUBLISH
UID:722767a5-7284-4003-83e1-42ffb9641fca
X-WR-CALDESC:
X-WR-RELCALID:0bcc552db9bbe53965fd12fd0e978b3e
X-WR-TIMEZONE:America/Chicago
BEGIN:VTIMEZONE
TZID:America/Chicago
BEGIN:STANDARD
TZNAME:CST
DTSTART:20231105T020000
TZOFFSETFROM:-0500
TZOFFSETTO:-0600
RDATE:20241103T020000
END:STANDARD
BEGIN:DAYLIGHT
TZNAME:CDT
DTSTART:20230312T020000
TZOFFSETFROM:-0600
TZOFFSETTO:-0500
RDATE:20240310T020000
RDATE:20250309T020000
END:DAYLIGHT
END:VTIMEZONE
BEGIN:VEVENT
UID:b7ece29b-b608-4220-98f1-f2a4052812d7
DTSTAMP:20260422T020154Z
DESCRIPTION:
DTSTART;TZID=America/Chicago:20240301T120000
DTEND;TZID=America/Chicago:20240301T130000
LOCATION:3880 South Columbia Road\, Grand Forks\, ND 58201 US
SUMMARY:Envision Committee
END:VEVENT
END:VCALENDAR
