BEGIN:VCALENDAR
VERSION:2.0
PRODID:-//www.developmenthomes.org//NONSGML kigkonsult.se iCalcreator 2.30.
 10//
CALSCALE:GREGORIAN
METHOD:PUBLISH
UID:187ffd3d-dd35-4888-bdb1-6f26104e47c7
X-WR-CALDESC:
X-WR-RELCALID:91f07300434b30fce1c6616d9bd83cc1
X-WR-TIMEZONE:America/Chicago
BEGIN:VTIMEZONE
TZID:America/Chicago
BEGIN:STANDARD
TZNAME:CST
DTSTART:20231105T020000
TZOFFSETFROM:-0500
TZOFFSETTO:-0600
RDATE:20241103T020000
END:STANDARD
BEGIN:DAYLIGHT
TZNAME:CDT
DTSTART:20240310T020000
TZOFFSETFROM:-0600
TZOFFSETTO:-0500
RDATE:20250309T020000
END:DAYLIGHT
END:VTIMEZONE
BEGIN:VEVENT
UID:3e57d809-de89-4fda-81cd-53a5ca6b18c8
DTSTAMP:20260422T023029Z
DESCRIPTION:
DTSTART;TZID=America/Chicago:20240321T180000
DTEND;TZID=America/Chicago:20240321T193000
LOCATION:3880 S Columbia Road\, Grand Forks\, ND 58201 US
SUMMARY:Art Night
END:VEVENT
END:VCALENDAR
