BEGIN:VCALENDAR
VERSION:2.0
PRODID:-//www.developmenthomes.org//NONSGML kigkonsult.se iCalcreator 2.30.
 10//
CALSCALE:GREGORIAN
METHOD:PUBLISH
UID:e9b706c3-f842-4ab3-af4a-624bc49a2371
X-WR-CALDESC:
X-WR-RELCALID:8fa8aec92071923c2f52ff06eefbef17
X-WR-TIMEZONE:America/Chicago
BEGIN:VTIMEZONE
TZID:America/Chicago
BEGIN:STANDARD
TZNAME:CST
DTSTART:20231105T020000
TZOFFSETFROM:-0500
TZOFFSETTO:-0600
RDATE:20241103T020000
END:STANDARD
BEGIN:DAYLIGHT
TZNAME:CDT
DTSTART:20240310T020000
TZOFFSETFROM:-0600
TZOFFSETTO:-0500
RDATE:20250309T020000
END:DAYLIGHT
END:VTIMEZONE
BEGIN:VEVENT
UID:d56bd97f-c2a9-4ab9-bc90-3f69e5388f15
DTSTAMP:20260422T020639Z
DESCRIPTION:
DTSTART;TZID=America/Chicago:20240326T174500
DTEND;TZID=America/Chicago:20240326T193000
LOCATION:3880 South Columbia Road\, Grand Forks\, ND 58201 US
SUMMARY:Gaming Committee
END:VEVENT
END:VCALENDAR
