BEGIN:VCALENDAR
VERSION:2.0
PRODID:-//www.developmenthomes.org//NONSGML kigkonsult.se iCalcreator 2.30.
 10//
CALSCALE:GREGORIAN
METHOD:PUBLISH
UID:d52c9c07-2651-49ee-8dbd-4fa4a62fe50d
X-WR-CALDESC:
X-WR-RELCALID:8aa7390822835ae5e204ebccf61b7d7d
X-WR-TIMEZONE:America/Chicago
BEGIN:VTIMEZONE
TZID:America/Chicago
BEGIN:STANDARD
TZNAME:CST
DTSTART:20231105T020000
TZOFFSETFROM:-0500
TZOFFSETTO:-0600
RDATE:20241103T020000
END:STANDARD
BEGIN:DAYLIGHT
TZNAME:CDT
DTSTART:20240310T020000
TZOFFSETFROM:-0600
TZOFFSETTO:-0500
RDATE:20250309T020000
END:DAYLIGHT
END:VTIMEZONE
BEGIN:VEVENT
UID:5ed9f9fd-fc8c-4a5b-8256-b7a517af1552
DTSTAMP:20260422T011502Z
DESCRIPTION:
DTSTART;TZID=America/Chicago:20240405T120000
DTEND;TZID=America/Chicago:20240405T130000
LOCATION:3880 South Columbia Road\, Grand Forks\, ND 58201 US
SUMMARY:Envision Committee
END:VEVENT
END:VCALENDAR
