BEGIN:VCALENDAR
VERSION:2.0
PRODID:-//www.developmenthomes.org//NONSGML kigkonsult.se iCalcreator 2.30.
 10//
CALSCALE:GREGORIAN
METHOD:PUBLISH
UID:378846c9-4e5f-44b6-8e60-aed787ad0f27
X-WR-CALDESC:
X-WR-RELCALID:33a18d2afe610a5c53420a37721692fe
X-WR-TIMEZONE:America/Chicago
BEGIN:VTIMEZONE
TZID:America/Chicago
BEGIN:STANDARD
TZNAME:CST
DTSTART:20231105T020000
TZOFFSETFROM:-0500
TZOFFSETTO:-0600
RDATE:20241103T020000
END:STANDARD
BEGIN:DAYLIGHT
TZNAME:CDT
DTSTART:20240310T020000
TZOFFSETFROM:-0600
TZOFFSETTO:-0500
RDATE:20250309T020000
END:DAYLIGHT
END:VTIMEZONE
BEGIN:VEVENT
UID:da2763b6-e143-46d6-b848-989c300c4415
DTSTAMP:20260422T010331Z
DESCRIPTION:
DTSTART;TZID=America/Chicago:20240420T090000
DTEND;TZID=America/Chicago:20240420T110000
LOCATION:1726 S Washington St\, Grand Forks\, ND 58201 US
SUMMARY:9th Annual Autism Walk and Community Celebration
END:VEVENT
END:VCALENDAR
