BEGIN:VCALENDAR
VERSION:2.0
PRODID:-//www.developmenthomes.org//NONSGML kigkonsult.se iCalcreator 2.30.
 10//
CALSCALE:GREGORIAN
METHOD:PUBLISH
UID:f588d08d-56c5-4099-927e-6a6e4a840753
X-WR-CALDESC:
X-WR-RELCALID:af6d59cc1ce3ae683d4056826365c439
X-WR-TIMEZONE:America/Chicago
BEGIN:VTIMEZONE
TZID:America/Chicago
BEGIN:STANDARD
TZNAME:CST
DTSTART:20231105T020000
TZOFFSETFROM:-0500
TZOFFSETTO:-0600
RDATE:20241103T020000
RDATE:20251102T020000
END:STANDARD
BEGIN:DAYLIGHT
TZNAME:CDT
DTSTART:20240310T020000
TZOFFSETFROM:-0600
TZOFFSETTO:-0500
RDATE:20250309T020000
END:DAYLIGHT
END:VTIMEZONE
BEGIN:VEVENT
UID:8c419e07-b036-4334-82aa-8402f80fb7ed
DTSTAMP:20260421T201021Z
DESCRIPTION:
DTSTART;TZID=America/Chicago:20240716T120000
DTEND;TZID=America/Chicago:20240716T170000
LOCATION:3880 South Columbia Road\, Grand Forks\, ND 58201 US
SUMMARY:Hanks Ice Cream Shop Truck
END:VEVENT
END:VCALENDAR
