BEGIN:VCALENDAR
VERSION:2.0
PRODID:-//www.developmenthomes.org//NONSGML kigkonsult.se iCalcreator 2.30.
 10//
CALSCALE:GREGORIAN
METHOD:PUBLISH
UID:d3b14bab-5686-49a0-ac81-a8c27edc56bc
X-WR-CALDESC:Please go to the following site for the Golf Tournament\n\nhtt
 ps://www.golfgenius.com/ggid/dhi24\n
X-WR-RELCALID:0a7d9625ee326d68530048d250931ed5
X-WR-TIMEZONE:America/Chicago
BEGIN:VTIMEZONE
TZID:America/Chicago
BEGIN:STANDARD
TZNAME:CST
DTSTART:20231105T020000
TZOFFSETFROM:-0500
TZOFFSETTO:-0600
RDATE:20241103T020000
RDATE:20251102T020000
END:STANDARD
BEGIN:DAYLIGHT
TZNAME:CDT
DTSTART:20240310T020000
TZOFFSETFROM:-0600
TZOFFSETTO:-0500
RDATE:20250309T020000
END:DAYLIGHT
END:VTIMEZONE
BEGIN:VEVENT
UID:37b844ba-e407-4d4c-879d-e77363153049
DTSTAMP:20260421T200946Z
DESCRIPTION:Please go to the following site for the Golf Tournament\n\nhttp
 s://www.golfgenius.com/ggid/dhi24\n
DTSTART;TZID=America/Chicago:20240718T110000
DTEND;TZID=America/Chicago:20240718T180000
LOCATION:794 Co Rd 6\, Grand Forks\, ND 58201 US
SUMMARY:DHI and Innes Golf Tournament
END:VEVENT
END:VCALENDAR
