BEGIN:VCALENDAR
VERSION:2.0
PRODID:-//www.developmenthomes.org//NONSGML kigkonsult.se iCalcreator 2.30.
 10//
CALSCALE:GREGORIAN
METHOD:PUBLISH
UID:d019c667-8c42-4716-b49c-6eaa1f1c7141
X-WR-CALDESC:
X-WR-RELCALID:3eeb2537ad2328ba1431ddd6a0e1d1d1
X-WR-TIMEZONE:America/Chicago
BEGIN:VTIMEZONE
TZID:America/Chicago
BEGIN:STANDARD
TZNAME:CST
DTSTART:20241103T020000
TZOFFSETFROM:-0500
TZOFFSETTO:-0600
RDATE:20251102T020000
END:STANDARD
BEGIN:DAYLIGHT
TZNAME:CDT
DTSTART:20240310T020000
TZOFFSETFROM:-0600
TZOFFSETTO:-0500
RDATE:20250309T020000
RDATE:20260308T020000
END:DAYLIGHT
END:VTIMEZONE
BEGIN:VEVENT
UID:971234e6-09a5-4546-9807-eeac7ef1eaed
DTSTAMP:20260421T115434Z
DESCRIPTION:
DTSTART;TZID=America/Chicago:20241216T120000
DTEND;TZID=America/Chicago:20241216T130000
LOCATION:3880 South Columbia Road\, Grand Forks\, ND 58201 US
SUMMARY:Program Committee
END:VEVENT
END:VCALENDAR
