BEGIN:VCALENDAR
VERSION:2.0
PRODID:-//www.developmenthomes.org//NONSGML kigkonsult.se iCalcreator 2.30.
 10//
CALSCALE:GREGORIAN
METHOD:PUBLISH
UID:468a5d14-61b4-4e5a-94d6-b6b1433c9678
X-WR-CALDESC:
X-WR-RELCALID:7acea4c5d7da519d6ea73542c52c4565
X-WR-TIMEZONE:America/Chicago
BEGIN:VTIMEZONE
TZID:America/Chicago
BEGIN:STANDARD
TZNAME:CST
DTSTART:20261101T020000
TZOFFSETFROM:-0500
TZOFFSETTO:-0600
RDATE:20271107T020000
RDATE:20281105T020000
END:STANDARD
BEGIN:DAYLIGHT
TZNAME:CDT
DTSTART:20270314T020000
TZOFFSETFROM:-0600
TZOFFSETTO:-0500
RDATE:20280312T020000
END:DAYLIGHT
END:VTIMEZONE
BEGIN:VEVENT
UID:ceafaa92-cf21-49d1-8e2a-c5080183f25c
DTSTAMP:20260421T084035Z
DESCRIPTION:
DTSTART;TZID=America/Chicago:20270622T190000
DTEND;TZID=America/Chicago:20270622T210000
LOCATION:3880 South Columbia Road\, Grand Forks\, ND 58201 US
SUMMARY:Full Board
END:VEVENT
END:VCALENDAR
