BEGIN:VCALENDAR
VERSION:2.0
PRODID:-//www.developmenthomes.org//NONSGML kigkonsult.se iCalcreator 2.30.
 10//
CALSCALE:GREGORIAN
METHOD:PUBLISH
UID:3485db28-498f-480f-a2be-7875a33002cb
X-WR-CALDESC:
X-WR-RELCALID:d90afb5b69611f49e277b1fe8f23b0a4
X-WR-TIMEZONE:America/Chicago
BEGIN:VTIMEZONE
TZID:America/Chicago
BEGIN:STANDARD
TZNAME:CST
DTSTART:20261101T020000
TZOFFSETFROM:-0500
TZOFFSETTO:-0600
RDATE:20271107T020000
RDATE:20281105T020000
END:STANDARD
BEGIN:DAYLIGHT
TZNAME:CDT
DTSTART:20270314T020000
TZOFFSETFROM:-0600
TZOFFSETTO:-0500
RDATE:20280312T020000
END:DAYLIGHT
END:VTIMEZONE
BEGIN:VEVENT
UID:93f04caa-0e60-4784-9db0-f058c25f1786
DTSTAMP:20260421T121013Z
DESCRIPTION:
DTSTART;TZID=America/Chicago:20270719T120000
DTEND;TZID=America/Chicago:20270719T130000
LOCATION:3880 South Columbia Road\, Grand Forks\, ND 58201 US
SUMMARY:Program Committee
END:VEVENT
END:VCALENDAR
