BEGIN:VCALENDAR
VERSION:2.0
PRODID:-//www.developmenthomes.org//NONSGML kigkonsult.se iCalcreator 2.30.
 10//
CALSCALE:GREGORIAN
METHOD:PUBLISH
UID:f43dcddd-a864-4434-9274-a0478f6da3cc
X-WR-CALDESC:
X-WR-RELCALID:730d908d905acf12b7d377c85a32eb35
X-WR-TIMEZONE:America/Chicago
BEGIN:VTIMEZONE
TZID:America/Chicago
BEGIN:STANDARD
TZNAME:CST
DTSTART:20271107T020000
TZOFFSETFROM:-0500
TZOFFSETTO:-0600
RDATE:20281105T020000
END:STANDARD
BEGIN:DAYLIGHT
TZNAME:CDT
DTSTART:20270314T020000
TZOFFSETFROM:-0600
TZOFFSETTO:-0500
RDATE:20280312T020000
RDATE:20290311T020000
END:DAYLIGHT
END:VTIMEZONE
BEGIN:VEVENT
UID:ef40a113-3545-4abb-bf87-18bda6d6a37f
DTSTAMP:20260421T184501Z
DESCRIPTION:
DTSTART;TZID=America/Chicago:20271108T120000
DTEND;TZID=America/Chicago:20271108T130000
LOCATION:3880 South Columbia Road\, Grand Forks\, ND 58201 US
SUMMARY:HR Committe
END:VEVENT
END:VCALENDAR
