BEGIN:VCALENDAR
VERSION:2.0
PRODID:-//www.developmenthomes.org//NONSGML kigkonsult.se iCalcreator 2.30.
 10//
CALSCALE:GREGORIAN
METHOD:PUBLISH
UID:fbd2dfbf-cf42-405c-81d7-719548a796a3
X-WR-CALDESC:
X-WR-RELCALID:189252029e44bc8ca28329b32c4032a5
X-WR-TIMEZONE:America/Chicago
BEGIN:VTIMEZONE
TZID:America/Chicago
BEGIN:STANDARD
TZNAME:CST
DTSTART:20271107T020000
TZOFFSETFROM:-0500
TZOFFSETTO:-0600
RDATE:20281105T020000
END:STANDARD
BEGIN:DAYLIGHT
TZNAME:CDT
DTSTART:20270314T020000
TZOFFSETFROM:-0600
TZOFFSETTO:-0500
RDATE:20280312T020000
RDATE:20290311T020000
END:DAYLIGHT
END:VTIMEZONE
BEGIN:VEVENT
UID:341380a8-dec0-4939-be28-d2d17f8e8f66
DTSTAMP:20260421T220746Z
DESCRIPTION:
DTSTART;TZID=America/Chicago:20280107T120000
DTEND;TZID=America/Chicago:20280107T130000
LOCATION:3880 South Columbia Road\, Grand Forks\, ND 58201 US
SUMMARY:Envision Committee
END:VEVENT
END:VCALENDAR
