BEGIN:VCALENDAR
VERSION:2.0
PRODID:-//www.developmenthomes.org//NONSGML kigkonsult.se iCalcreator 2.30.
 10//
CALSCALE:GREGORIAN
METHOD:PUBLISH
UID:d677f157-a347-45bd-81f4-be753ed91570
X-WR-CALDESC:
X-WR-RELCALID:30494c92bb43481a1df84edff2294b70
X-WR-TIMEZONE:America/Chicago
BEGIN:VTIMEZONE
TZID:America/Chicago
BEGIN:STANDARD
TZNAME:CST
DTSTART:20271107T020000
TZOFFSETFROM:-0500
TZOFFSETTO:-0600
RDATE:20281105T020000
END:STANDARD
BEGIN:DAYLIGHT
TZNAME:CDT
DTSTART:20270314T020000
TZOFFSETFROM:-0600
TZOFFSETTO:-0500
RDATE:20280312T020000
RDATE:20290311T020000
END:DAYLIGHT
END:VTIMEZONE
BEGIN:VEVENT
UID:bbb0a378-fd86-4c33-a83c-a63e0d8aaead
DTSTAMP:20260421T235828Z
DESCRIPTION:
DTSTART;TZID=America/Chicago:20280222T190000
DTEND;TZID=America/Chicago:20280222T210000
LOCATION:3880 South Columbia Road\, Grand Forks\, ND 58201 US
SUMMARY:Full Board
END:VEVENT
END:VCALENDAR
